BEGIN:VCALENDAR
VERSION:2.0
PRODID:-//Fluxus - ECPv5.2.1//NONSGML v1.0//EN
CALSCALE:GREGORIAN
METHOD:PUBLISH
X-WR-CALNAME:Fluxus
X-ORIGINAL-URL:https://fluxus.eco.br
X-WR-CALDESC:Eventos para Fluxus
BEGIN:VTIMEZONE
TZID:America/Sao_Paulo
BEGIN:STANDARD
TZOFFSETFROM:-0300
TZOFFSETTO:-0300
TZNAME:-03
DTSTART:20200101T000000
END:STANDARD
END:VTIMEZONE
BEGIN:VEVENT
DTSTART;TZID=America/Sao_Paulo:20200914T190000
DTEND;TZID=America/Sao_Paulo:20200914T190000
DTSTAMP:20260422T143526
CREATED:20200909T143652Z
LAST-MODIFIED:20200909T143652Z
UID:3336-1600110000-1600110000@fluxus.eco.br
SUMMARY:Sessão ao vivo “Permacultura e saneamento: tratamento de efluentes”
DESCRIPTION:Como a lógica da permacultura pode contribuir para termos pessoas protagonistas da gestão de água? \nO Núcleo de Estudos em Permacultura da UFSC promove uma conversa ao vivo com o intuito de ajudar a responder esta questão\, e\, para isto\, contará com a colaboração de grandes mestres na área: Adriana Galbiati\, Elena Caldini\, Marcelo Venturi e Guilherma Castagna\, e com a mediação de Cassandra Pulceno. \nPara participar você pode se inscrever previamente e\, assim\, receberá um lembrete um pouco antes de começar o bate-papo\, ou pode participar diretamente pelo link da conversa\, quando ela estiver acontecendo. \nPara se inscrever clique em: https://docs.google.com/forms/d/e/1FAIpQLSdJHK5M9TN7eogL5BoEGloqnn9roVNujRNqcChbhlJNq6dDQg/viewform \nPara ir direto para a sessão ao vivo\, no dia e horário marcados\, acesse: https://www.youtube.com/watch?v=8NGkWpFxaz8&feature=youtu.be \n  \nCompartilhe:
URL:https://fluxus.eco.br/evento/sessao-ao-vivo-permacultura-e-saneamento-tratamento-de-efluentes/
CATEGORIES:Live
END:VEVENT
END:VCALENDAR