BEGIN:VCALENDAR
VERSION:2.0
PRODID:-//Fluxus - ECPv5.2.1//NONSGML v1.0//EN
CALSCALE:GREGORIAN
METHOD:PUBLISH
X-WR-CALNAME:Fluxus
X-ORIGINAL-URL:https://fluxus.eco.br
X-WR-CALDESC:Eventos para Fluxus
BEGIN:VTIMEZONE
TZID:America/Sao_Paulo
BEGIN:STANDARD
TZOFFSETFROM:-0300
TZOFFSETTO:-0300
TZNAME:-03
DTSTART:20200101T000000
END:STANDARD
END:VTIMEZONE
BEGIN:VEVENT
DTSTART;TZID=America/Sao_Paulo:20200730T143000
DTEND;TZID=America/Sao_Paulo:20200730T183000
DTSTAMP:20260422T124755
CREATED:20200716T204001Z
LAST-MODIFIED:20200716T204001Z
UID:3285-1596119400-1596133800@fluxus.eco.br
SUMMARY:Saberes em Prosa: Água
DESCRIPTION:O CASA Brasil\, Conselho de Assentamentos Sustentáveis da América Latina no Brasil\, inicia uma série de encontros virtuais que buscam conectar as comunidades brasileiras para trocar informações sobre desafios e soluções relacionados a temas específicos. O primeiro evento será sobre a Água\, com o tema Água: Quais as necessidades e soluções das comunidades? \nPara saber mais acesse: http://fluxus.eco.br/2020/07/saberes-em-prosa-agua/ \nData: 30/07 (quinta-feira)\nHorário: das 14:30 às 16:30 \nPara participar é necessário: \n\nTer o aplicativo Zoom instalado no computador ou celular\nFazer a inscrição no link: https://www.redecasabrasil.org/events/saberes-em-prosa-agua\n\nCompartilhe:
URL:https://fluxus.eco.br/evento/saberes-em-prosa-agua/
LOCATION:CASA Brasil\, Brasil
CATEGORIES:Live,Palestra
END:VEVENT
END:VCALENDAR