BEGIN:VCALENDAR
VERSION:2.0
PRODID:-//Fluxus - ECPv5.2.1//NONSGML v1.0//EN
CALSCALE:GREGORIAN
METHOD:PUBLISH
X-WR-CALNAME:Fluxus
X-ORIGINAL-URL:https://fluxus.eco.br
X-WR-CALDESC:Eventos para Fluxus
BEGIN:VTIMEZONE
TZID:America/Sao_Paulo
BEGIN:STANDARD
TZOFFSETFROM:-0300
TZOFFSETTO:-0300
TZNAME:-03
DTSTART:20220101T000000
END:STANDARD
END:VTIMEZONE
BEGIN:VEVENT
DTSTART;TZID=America/Sao_Paulo:20220707T190000
DTEND;TZID=America/Sao_Paulo:20220707T200000
DTSTAMP:20260420T163308
CREATED:20220706T140511Z
LAST-MODIFIED:20220706T140511Z
UID:4097-1657220400-1657224000@fluxus.eco.br
SUMMARY:Lançamento livro Somos Natureza
DESCRIPTION:Bate papo de lançamento do livro Somos Natureza\, de Gustavo Machado. Além do autor\, estarão presentes\, Guilherme Castagna\, da Fluxus\, e Isabela Salles\, empreendedora da Bambual Editora. \nSe você se interessa em conhecer como as soluções baseados na natureza podem inspirar mudanças nas cidades\, vilarejos e na sua própria casa\, anote na agenda e participe deste encontro. \nPré-venda do livro: https://bambualeditora.com.br/p/somos-natureza/ \nPara saber mais sobre o evento: http://fluxus.eco.br/blog/ \n  \nCompartilhe:
URL:https://fluxus.eco.br/evento/lancamento-livro-somos-natureza/
LOCATION:Instagram Bambual Editora
CATEGORIES:Live
END:VEVENT
END:VCALENDAR