BEGIN:VCALENDAR
VERSION:2.0
PRODID:-//Fluxus - ECPv5.2.1//NONSGML v1.0//EN
CALSCALE:GREGORIAN
METHOD:PUBLISH
X-WR-CALNAME:Fluxus
X-ORIGINAL-URL:https://fluxus.eco.br
X-WR-CALDESC:Eventos para Fluxus
BEGIN:VTIMEZONE
TZID:America/Sao_Paulo
BEGIN:STANDARD
TZOFFSETFROM:-0300
TZOFFSETTO:-0300
TZNAME:-03
DTSTART:20210101T000000
END:STANDARD
END:VTIMEZONE
BEGIN:VEVENT
DTSTART;TZID=America/Sao_Paulo:20210528T080000
DTEND;TZID=America/Sao_Paulo:20210528T170000
DTSTAMP:20260420T225931
CREATED:20210528T190436Z
LAST-MODIFIED:20210528T190436Z
UID:3880-1622188800-1622221200@fluxus.eco.br
SUMMARY:IV Fórum da Água da Região Metropolitana de Ribeirão Preto
DESCRIPTION:O evento será transmitido\, ao vivo\, no canal do Youtube da TV Câmara\, e contará com a participação de quatro renomados palestrantes\, tendo como tema “Nossos rios e córregos urbanos – Soluções para revitalização”. \nData: 28 de Maio de 2021\nHorário: 16h – 18h\nEvento online: Transmissão pelos canais oficiais da TV Câmara Ribeirão Preto.\nLink: https://www.youtube.com/c/tvcamararibeiraopreto \nPara mais informações acesse: http://fluxus.eco.br/2021/05/iv-forum-da-agua-da-regiao-metropolitana-de-ribeirao-preto/ \n  \nCompartilhe:
URL:https://fluxus.eco.br/evento/iv-forum-da-agua-da-regiao-metropolitana-de-ribeirao-preto/
CATEGORIES:Live
END:VEVENT
END:VCALENDAR