BEGIN:VCALENDAR
VERSION:2.0
PRODID:-//Fluxus - ECPv5.2.1//NONSGML v1.0//EN
CALSCALE:GREGORIAN
METHOD:PUBLISH
X-WR-CALNAME:Fluxus
X-ORIGINAL-URL:https://fluxus.eco.br
X-WR-CALDESC:Eventos para Fluxus
BEGIN:VTIMEZONE
TZID:America/Sao_Paulo
BEGIN:STANDARD
TZOFFSETFROM:-0300
TZOFFSETTO:-0300
TZNAME:-03
DTSTART:20210101T000000
END:STANDARD
END:VTIMEZONE
BEGIN:VEVENT
DTSTART;TZID=America/Sao_Paulo:20210823T180000
DTEND;TZID=America/Sao_Paulo:20210823T190000
DTSTAMP:20260420T212502
CREATED:20210823T114524Z
LAST-MODIFIED:20210823T114524Z
UID:3945-1629741600-1629745200@fluxus.eco.br
SUMMARY:Games de Impacto: Cuidando das Águas
DESCRIPTION:A Vila dos Games é uma comunidade de criadores de games\, que promove experiências gamificadas únicas e transformadoras. \nGuilherme Castagna\, junto à artista Floriana Breyer\, foram convidados para participar da live Café sem Filtro\, sobre o tema: Games de Impacto: Cuidando das Águas. Juntos eles vão propor estratégias sobre como podemos cocriar novas formas de sensibilização e engajamento com o cuidado das águas! \nSe programe para não perder este encontro! \nCompartilhe:
URL:https://fluxus.eco.br/evento/games-de-impacto-cuidando-das-aguas/
LOCATION:Canal do Vila dos Games\, Brasil
END:VEVENT
END:VCALENDAR