BEGIN:VCALENDAR
VERSION:2.0
PRODID:-//Fluxus - ECPv5.2.1//NONSGML v1.0//EN
CALSCALE:GREGORIAN
METHOD:PUBLISH
X-WR-CALNAME:Fluxus
X-ORIGINAL-URL:https://fluxus.eco.br
X-WR-CALDESC:Eventos para Fluxus
BEGIN:VTIMEZONE
TZID:America/Sao_Paulo
BEGIN:STANDARD
TZOFFSETFROM:-0300
TZOFFSETTO:-0300
TZNAME:-03
DTSTART:20220101T000000
END:STANDARD
END:VTIMEZONE
BEGIN:VEVENT
DTSTART;TZID=America/Sao_Paulo:20220611T080000
DTEND;TZID=America/Sao_Paulo:20220917T120000
DTSTAMP:20260420T150058
CREATED:20220601T173829Z
LAST-MODIFIED:20220601T173829Z
UID:4070-1654934400-1663416000@fluxus.eco.br
SUMMARY:Curso Manejo Apropriado da Água
DESCRIPTION:O curso apresenta aulas teóricas e práticas que buscam estimular a reflexão sobre os usos da água e promover soluções ecológicas comunitárias. Esse evento integra a fase ll do projeto Mapeamento e Disseminação de Conhecimentos em Tecnologias Sociais de Saneamento na Bacia dos Rios Quiririm e Puruba em Ubatuba/SP. \nPara saber mais acesse: http://fluxus.eco.br/2022/06/curso-manejo-apropriado-da-agua/ \nCompartilhe:
URL:https://fluxus.eco.br/evento/curso-manejo-apropriado-da-agua/
LOCATION:Escola Municipal José Belarmino Sobrinho\, Estrada Municipal\, s/n - Puruba\, Km 24 da Rodovia Rio-Santos\, Ubatuba\, São Paulo\, Brasil
CATEGORIES:Curso
END:VEVENT
END:VCALENDAR